Package: ChIPexoQual Version: 1.26.0 Command: /home/biocbuild/R/R-4.3.1/bin/R CMD build --keep-empty-dirs --no-resave-data ChIPexoQual StartedAt: 2023-11-01 23:19:05 -0000 (Wed, 01 Nov 2023) EndedAt: 2023-11-01 23:22:24 -0000 (Wed, 01 Nov 2023) EllapsedTime: 199.2 seconds RetCode: 0 Status: OK PackageFile: ChIPexoQual_1.26.0.tar.gz PackageFileSize: 2.299 MiB