Package: ChIPpeakAnno Version: 3.36.1 Maintainer: Jianhong Ou MaintainerEmail: jianhong.ou at duke.edu git_url: https://git.bioconductor.org/packages/ChIPpeakAnno git_branch: RELEASE_3_18 git_last_commit: 105ec60 git_last_commit_date: 2024-02-15 15:06:09 -0400 (Thu, 15 Feb 2024)