Package: ChIPpeakAnno Version: 3.36.1 Command: /Library/Frameworks/R.framework/Resources/bin/R CMD check --install=check:ChIPpeakAnno.install-out.txt --library=/Library/Frameworks/R.framework/Resources/library --no-vignettes --timings ChIPpeakAnno_3.36.1.tar.gz StartedAt: 2024-04-16 00:38:22 -0400 (Tue, 16 Apr 2024) EndedAt: 2024-04-16 00:59:32 -0400 (Tue, 16 Apr 2024) EllapsedTime: 1269.8 seconds RetCode: 0 Status: OK CheckDir: ChIPpeakAnno.Rcheck Warnings: 0