Package: ChIPpeakAnno Version: 3.36.1 Command: /home/biocbuild/bbs-3.18-bioc/R/bin/R CMD build --keep-empty-dirs --no-resave-data ChIPpeakAnno StartedAt: 2024-04-15 16:26:29 -0400 (Mon, 15 Apr 2024) EndedAt: 2024-04-15 16:33:05 -0400 (Mon, 15 Apr 2024) EllapsedTime: 396.1 seconds RetCode: 0 Status: OK PackageFile: ChIPpeakAnno_3.36.1.tar.gz PackageFileSize: 18.46 MiB