Package: ChIPpeakAnno Version: 3.36.1 Command: /home/biocbuild/bbs-3.18-bioc/R/bin/R CMD INSTALL ChIPpeakAnno StartedAt: 2024-04-15 15:39:10 -0400 (Mon, 15 Apr 2024) EndedAt: 2024-04-15 15:40:54 -0400 (Mon, 15 Apr 2024) EllapsedTime: 103.8 seconds RetCode: 0 Status: OK