Package: ChemmineOB Version: 1.40.0 Command: /home/biocbuild/R/R-4.3.1/bin/R CMD check --install=check:ChemmineOB.install-out.txt --library=/home/biocbuild/R/R-4.3.1/site-library --no-vignettes --timings ChemmineOB_1.40.0.tar.gz StartedAt: 2023-11-02 09:10:13 -0000 (Thu, 02 Nov 2023) EndedAt: 2023-11-02 09:12:21 -0000 (Thu, 02 Nov 2023) EllapsedTime: 128.0 seconds RetCode: 0 Status: WARNINGS CheckDir: ChemmineOB.Rcheck Warnings: 2