Package: ChemmineOB Version: 1.40.0 Command: chmod a+r ChemmineOB -R && F:\biocbuild\bbs-3.18-bioc\R\bin\R.exe CMD build --keep-empty-dirs --no-resave-data ChemmineOB StartedAt: 2024-04-15 17:32:40 -0400 (Mon, 15 Apr 2024) EndedAt: 2024-04-15 17:35:31 -0400 (Mon, 15 Apr 2024) EllapsedTime: 170.5 seconds RetCode: 0 Status: OK PackageFile: ChemmineOB_1.40.0.tar.gz PackageFileSize: 1.303 MiB