Package: ChemmineOB Version: 1.40.0 Command: F:\biocbuild\bbs-3.18-bioc\R\bin\R.exe CMD check --no-multiarch --install=check:ChemmineOB.install-out.txt --library=F:\biocbuild\bbs-3.18-bioc\R\library --no-vignettes --timings ChemmineOB_1.40.0.tar.gz StartedAt: 2024-04-15 23:12:49 -0400 (Mon, 15 Apr 2024) EndedAt: 2024-04-15 23:16:04 -0400 (Mon, 15 Apr 2024) EllapsedTime: 195.3 seconds RetCode: 0 Status: WARNINGS CheckDir: ChemmineOB.Rcheck Warnings: 3