Package: CircSeqAlignTk Version: 1.4.0 Command: rm -rf CircSeqAlignTk.buildbin-libdir && mkdir CircSeqAlignTk.buildbin-libdir && F:\biocbuild\bbs-3.18-bioc\R\bin\R.exe CMD INSTALL --build --library=CircSeqAlignTk.buildbin-libdir CircSeqAlignTk_1.4.0.tar.gz StartedAt: 2024-04-16 06:48:40 -0400 (Tue, 16 Apr 2024) EndedAt: 2024-04-16 06:49:36 -0400 (Tue, 16 Apr 2024) EllapsedTime: 56.6 seconds RetCode: 0 Status: OK PackageFile: CircSeqAlignTk_1.4.0.zip PackageFileSize: 1.494 MiB