Package: Clonality Version: 1.49.0 Command: F:\biocbuild\bbs-3.18-bioc\R\bin\R.exe CMD check --no-multiarch --install=check:Clonality.install-out.txt --library=F:\biocbuild\bbs-3.18-bioc\R\library --no-vignettes --timings Clonality_1.49.0.tar.gz StartedAt: 2023-07-07 23:52:55 -0400 (Fri, 07 Jul 2023) EndedAt: 2023-07-07 23:53:34 -0400 (Fri, 07 Jul 2023) EllapsedTime: 39.3 seconds RetCode: 1 Status: ERROR CheckDir: Clonality.Rcheck Warnings: NA