Package: CoGAPS Version: 3.22.0 Command: /Library/Frameworks/R.framework/Resources/bin/R CMD build --keep-empty-dirs --no-resave-data CoGAPS StartedAt: 2024-03-03 16:18:16 -0500 (Sun, 03 Mar 2024) EndedAt: 2024-03-03 16:26:06 -0500 (Sun, 03 Mar 2024) EllapsedTime: 469.7 seconds RetCode: 0 Status: OK PackageFile: CoGAPS_3.22.0.tar.gz PackageFileSize: 19.98 MiB