Package: CoGAPS Version: 3.22.0 Command: F:\biocbuild\bbs-3.18-bioc\R\bin\R.exe CMD INSTALL CoGAPS StartedAt: 2024-04-15 16:26:51 -0400 (Mon, 15 Apr 2024) EndedAt: 2024-04-15 16:30:54 -0400 (Mon, 15 Apr 2024) EllapsedTime: 243.2 seconds RetCode: 0 Status: OK