Package: CompoundDb Version: 1.6.0 Command: /home/biocbuild/R/R-4.3.1/bin/R CMD build --keep-empty-dirs --no-resave-data CompoundDb StartedAt: 2023-11-01 23:43:19 -0000 (Wed, 01 Nov 2023) EndedAt: 2023-11-01 23:44:03 -0000 (Wed, 01 Nov 2023) EllapsedTime: 44.1 seconds RetCode: 0 Status: OK PackageFile: CompoundDb_1.6.0.tar.gz PackageFileSize: 1.424 MiB