Package: CompoundDb Version: 1.6.0 Command: /home/biocbuild/R/R-4.3.1/bin/R CMD check --install=check:CompoundDb.install-out.txt --library=/home/biocbuild/R/R-4.3.1/site-library --no-vignettes --timings CompoundDb_1.6.0.tar.gz StartedAt: 2023-11-02 09:30:57 -0000 (Thu, 02 Nov 2023) EndedAt: 2023-11-02 09:34:16 -0000 (Thu, 02 Nov 2023) EllapsedTime: 199.0 seconds RetCode: 0 Status: OK CheckDir: CompoundDb.Rcheck Warnings: 0