Package: CompoundDb Version: 1.6.0 Command: /Library/Frameworks/R.framework/Resources/bin/R CMD build --keep-empty-dirs --no-resave-data CompoundDb StartedAt: 2024-04-15 17:51:52 -0400 (Mon, 15 Apr 2024) EndedAt: 2024-04-15 17:53:08 -0400 (Mon, 15 Apr 2024) EllapsedTime: 75.8 seconds RetCode: 0 Status: OK PackageFile: CompoundDb_1.6.0.tar.gz PackageFileSize: 1.295 MiB