Package: CompoundDb Version: 1.6.0 Command: /home/biocbuild/bbs-3.18-bioc/R/bin/R CMD build --keep-empty-dirs --no-resave-data CompoundDb StartedAt: 2024-04-15 16:34:43 -0400 (Mon, 15 Apr 2024) EndedAt: 2024-04-15 16:35:15 -0400 (Mon, 15 Apr 2024) EllapsedTime: 31.9 seconds RetCode: 0 Status: OK PackageFile: CompoundDb_1.6.0.tar.gz PackageFileSize: 1.295 MiB