Package: CompoundDb Version: 1.6.0 Command: rm -rf CompoundDb.buildbin-libdir && mkdir CompoundDb.buildbin-libdir && F:\biocbuild\bbs-3.18-bioc\R\bin\R.exe CMD INSTALL --build --library=CompoundDb.buildbin-libdir CompoundDb_1.6.0.tar.gz StartedAt: 2024-04-16 06:50:36 -0400 (Tue, 16 Apr 2024) EndedAt: 2024-04-16 06:51:16 -0400 (Tue, 16 Apr 2024) EllapsedTime: 39.5 seconds RetCode: 0 Status: OK PackageFile: CompoundDb_1.6.0.zip PackageFileSize: 1.429 MiB