Package: CoverageView Version: 1.40.0 Command: /Library/Frameworks/R.framework/Resources/bin/R CMD build --keep-empty-dirs --no-resave-data CoverageView StartedAt: 2024-03-03 16:22:32 -0500 (Sun, 03 Mar 2024) EndedAt: 2024-03-03 16:23:32 -0500 (Sun, 03 Mar 2024) EllapsedTime: 60.1 seconds RetCode: 0 Status: OK PackageFile: CoverageView_1.40.0.tar.gz PackageFileSize: 2.581 MiB