Package: CytoGLMM Version: 1.10.0 Command: /Library/Frameworks/R.framework/Resources/bin/R CMD build --keep-empty-dirs --no-resave-data CytoGLMM StartedAt: 2024-03-03 16:25:28 -0500 (Sun, 03 Mar 2024) EndedAt: 2024-03-03 16:27:44 -0500 (Sun, 03 Mar 2024) EllapsedTime: 135.6 seconds RetCode: 0 Status: OK PackageFile: CytoGLMM_1.10.0.tar.gz PackageFileSize: 337.6 KiB