Package: CytoGLMM Version: 1.10.0 Command: chmod a+r CytoGLMM -R && F:\biocbuild\bbs-3.18-bioc\R\bin\R.exe CMD build --keep-empty-dirs --no-resave-data CytoGLMM StartedAt: 2024-04-15 17:51:41 -0400 (Mon, 15 Apr 2024) EndedAt: 2024-04-15 17:54:04 -0400 (Mon, 15 Apr 2024) EllapsedTime: 143.4 seconds RetCode: 0 Status: OK PackageFile: CytoGLMM_1.10.0.tar.gz PackageFileSize: 295.5 KiB