Package: CytoML Version: 2.14.0 Command: /home/biocbuild/R/R-4.3.1/bin/R CMD build --keep-empty-dirs --no-resave-data CytoML StartedAt: 2023-11-01 23:57:47 -0000 (Wed, 01 Nov 2023) EndedAt: 2023-11-02 00:00:01 -0000 (Thu, 02 Nov 2023) EllapsedTime: 133.2 seconds RetCode: 0 Status: OK PackageFile: CytoML_2.14.0.tar.gz PackageFileSize: 8.134 MiB