Package: CytoML Version: 2.14.0 Command: rm -rf CytoML.buildbin-libdir && mkdir CytoML.buildbin-libdir && /Users/biocbuild/BBS/utils/build-universal.sh CytoML_2.14.0.tar.gz /Library/Frameworks/R.framework/Resources/bin/R CytoML.buildbin-libdir StartedAt: 2024-03-04 00:36:52 -0500 (Mon, 04 Mar 2024) EndedAt: 2024-03-04 00:38:20 -0500 (Mon, 04 Mar 2024) EllapsedTime: 87.4 seconds RetCode: 0 Status: OK PackageFile: CytoML_2.14.0.tgz PackageFileSize: 8.943 MiB