Package: CytoML Version: 2.14.0 Command: /Library/Frameworks/R.framework/Resources/bin/R CMD build --keep-empty-dirs --no-resave-data CytoML StartedAt: 2024-03-03 16:25:57 -0500 (Sun, 03 Mar 2024) EndedAt: 2024-03-03 16:27:43 -0500 (Sun, 03 Mar 2024) EllapsedTime: 106.2 seconds RetCode: 0 Status: OK PackageFile: CytoML_2.14.0.tar.gz PackageFileSize: 7.952 MiB