Package: CytoML Version: 2.14.0 Command: /Library/Frameworks/R.framework/Resources/bin/R CMD check --install=check:CytoML.install-out.txt --library=/Library/Frameworks/R.framework/Resources/library --no-vignettes --timings CytoML_2.14.0.tar.gz StartedAt: 2024-03-03 20:00:33 -0500 (Sun, 03 Mar 2024) EndedAt: 2024-03-03 20:03:26 -0500 (Sun, 03 Mar 2024) EllapsedTime: 173.0 seconds RetCode: 0 Status: WARNINGS CheckDir: CytoML.Rcheck Warnings: 5