Package: CytoML Version: 2.14.0 Command: /Library/Frameworks/R.framework/Resources/bin/R CMD INSTALL CytoML StartedAt: 2024-03-03 15:20:14 -0500 (Sun, 03 Mar 2024) EndedAt: 2024-03-03 15:21:35 -0500 (Sun, 03 Mar 2024) EllapsedTime: 80.8 seconds RetCode: 0 Status: OK