Package: CytoML Version: 2.14.0 Command: /home/biocbuild/bbs-3.18-bioc/R/bin/R CMD check --install=check:CytoML.install-out.txt --library=/home/biocbuild/bbs-3.18-bioc/R/site-library --timings CytoML_2.14.0.tar.gz StartedAt: 2024-04-15 21:47:50 -0400 (Mon, 15 Apr 2024) EndedAt: 2024-04-15 21:51:11 -0400 (Mon, 15 Apr 2024) EllapsedTime: 201.3 seconds RetCode: 1 Status: ERROR CheckDir: CytoML.Rcheck Warnings: NA