Package: CytoML Version: 2.14.0 Command: rm -rf CytoML.buildbin-libdir && mkdir CytoML.buildbin-libdir && F:\biocbuild\bbs-3.18-bioc\R\bin\R.exe CMD INSTALL --build --library=CytoML.buildbin-libdir CytoML_2.14.0.tar.gz StartedAt: 2024-04-16 06:53:04 -0400 (Tue, 16 Apr 2024) EndedAt: 2024-04-16 06:54:36 -0400 (Tue, 16 Apr 2024) EllapsedTime: 93.0 seconds RetCode: 0 Status: OK PackageFile: CytoML_2.14.0.zip PackageFileSize: 10.26 MiB