Package: CytoPipeline Version: 1.2.0 Command: /Library/Frameworks/R.framework/Resources/bin/R CMD INSTALL CytoPipeline StartedAt: 2024-03-03 15:25:33 -0500 (Sun, 03 Mar 2024) EndedAt: 2024-03-03 15:25:55 -0500 (Sun, 03 Mar 2024) EllapsedTime: 21.4 seconds RetCode: 0 Status: OK