Package: CytoPipeline Version: 1.2.0 Command: /Library/Frameworks/R.framework/Resources/bin/R CMD INSTALL CytoPipeline StartedAt: 2024-04-15 15:53:01 -0400 (Mon, 15 Apr 2024) EndedAt: 2024-04-15 15:53:34 -0400 (Mon, 15 Apr 2024) EllapsedTime: 32.9 seconds RetCode: 0 Status: OK