Package: CytoPipelineGUI Version: 1.0.0 Command: /home/biocbuild/R/R-4.3.1/bin/R CMD build --keep-empty-dirs --no-resave-data CytoPipelineGUI StartedAt: 2023-11-01 23:57:50 -0000 (Wed, 01 Nov 2023) EndedAt: 2023-11-01 23:58:49 -0000 (Wed, 01 Nov 2023) EllapsedTime: 59.1 seconds RetCode: 0 Status: OK PackageFile: CytoPipelineGUI_1.0.0.tar.gz PackageFileSize: 1.658 MiB