Package: CytoPipelineGUI Version: 1.0.0 Command: rm -rf CytoPipelineGUI.buildbin-libdir && mkdir CytoPipelineGUI.buildbin-libdir && F:\biocbuild\bbs-3.18-bioc\R\bin\R.exe CMD INSTALL --build --library=CytoPipelineGUI.buildbin-libdir CytoPipelineGUI_1.0.0.tar.gz StartedAt: 2024-04-16 06:53:07 -0400 (Tue, 16 Apr 2024) EndedAt: 2024-04-16 06:53:28 -0400 (Tue, 16 Apr 2024) EllapsedTime: 20.7 seconds RetCode: 0 Status: OK PackageFile: CytoPipelineGUI_1.0.0.zip PackageFileSize: 859.9 KiB