Package: DAMEfinder Version: 1.14.0 Command: /home/biocbuild/R/R-4.3.1/bin/R CMD build --keep-empty-dirs --no-resave-data DAMEfinder StartedAt: 2023-11-01 23:58:51 -0000 (Wed, 01 Nov 2023) EndedAt: 2023-11-02 00:01:47 -0000 (Thu, 02 Nov 2023) EllapsedTime: 176.2 seconds RetCode: 0 Status: OK PackageFile: DAMEfinder_1.14.0.tar.gz PackageFileSize: 4.665 MiB