Package: DCATS Version: 1.0.0 Command: /Library/Frameworks/R.framework/Resources/bin/R CMD check --install=check:DCATS.install-out.txt --library=/Library/Frameworks/R.framework/Resources/library --no-vignettes --timings DCATS_1.0.0.tar.gz StartedAt: 2024-03-03 20:02:15 -0500 (Sun, 03 Mar 2024) EndedAt: 2024-03-03 20:04:02 -0500 (Sun, 03 Mar 2024) EllapsedTime: 107.3 seconds RetCode: 0 Status: OK CheckDir: DCATS.Rcheck Warnings: 0