Package: DEGreport Version: 1.38.1 Command: /home/biocbuild/R/R-4.3.1/bin/R CMD build --keep-empty-dirs --no-resave-data DEGreport StartedAt: 2023-11-02 00:08:39 -0000 (Thu, 02 Nov 2023) EndedAt: 2023-11-02 00:10:16 -0000 (Thu, 02 Nov 2023) EllapsedTime: 97.1 seconds RetCode: 0 Status: OK PackageFile: DEGreport_1.38.1.tar.gz PackageFileSize: 19.41 MiB