Package: DEGreport Version: 1.38.1 Command: /home/biocbuild/R/R-4.3.1/bin/R CMD check --install=check:DEGreport.install-out.txt --library=/home/biocbuild/R/R-4.3.1/site-library --no-vignettes --timings DEGreport_1.38.1.tar.gz StartedAt: 2023-11-02 09:52:03 -0000 (Thu, 02 Nov 2023) EndedAt: 2023-11-02 09:58:17 -0000 (Thu, 02 Nov 2023) EllapsedTime: 374.5 seconds RetCode: 1 Status: ERROR CheckDir: DEGreport.Rcheck Warnings: NA