Package: DEGreport Version: 1.38.5 Command: rm -rf DEGreport.buildbin-libdir && mkdir DEGreport.buildbin-libdir && /Users/biocbuild/BBS/utils/build-universal.sh DEGreport_1.38.5.tar.gz /Library/Frameworks/R.framework/Resources/bin/R DEGreport.buildbin-libdir StartedAt: 2024-03-04 00:37:26 -0500 (Mon, 04 Mar 2024) EndedAt: 2024-03-04 00:38:14 -0500 (Mon, 04 Mar 2024) EllapsedTime: 48.7 seconds RetCode: 0 Status: OK PackageFile: DEGreport_1.38.5.tgz PackageFileSize: 2.977 MiB