Package: DEGreport Version: 1.38.5 Command: /Library/Frameworks/R.framework/Resources/bin/R CMD build --keep-empty-dirs --no-resave-data DEGreport StartedAt: 2024-03-03 16:27:54 -0500 (Sun, 03 Mar 2024) EndedAt: 2024-03-03 16:29:24 -0500 (Sun, 03 Mar 2024) EllapsedTime: 89.5 seconds RetCode: 0 Status: OK PackageFile: DEGreport_1.38.5.tar.gz PackageFileSize: 19.39 MiB