Package: DEGreport Version: 1.38.5 Command: /home/biocbuild/bbs-3.18-bioc/R/bin/R CMD check --install=check:DEGreport.install-out.txt --library=/home/biocbuild/bbs-3.18-bioc/R/site-library --timings DEGreport_1.38.5.tar.gz StartedAt: 2024-04-15 21:55:34 -0400 (Mon, 15 Apr 2024) EndedAt: 2024-04-15 22:01:27 -0400 (Mon, 15 Apr 2024) EllapsedTime: 353.2 seconds RetCode: 0 Status: OK CheckDir: DEGreport.Rcheck Warnings: 0