Package: DEWSeq Version: 1.16.2 Command: rm -rf DEWSeq.buildbin-libdir && mkdir DEWSeq.buildbin-libdir && /Users/biocbuild/BBS/utils/build-universal.sh DEWSeq_1.16.2.tar.gz /Library/Frameworks/R.framework/Resources/bin/R DEWSeq.buildbin-libdir StartedAt: 2024-03-04 00:38:06 -0500 (Mon, 04 Mar 2024) EndedAt: 2024-03-04 00:38:46 -0500 (Mon, 04 Mar 2024) EllapsedTime: 39.8 seconds RetCode: 0 Status: OK PackageFile: DEWSeq_1.16.2.tgz PackageFileSize: 2.838 MiB