Package: DEWSeq Version: 1.16.2 Command: /Library/Frameworks/R.framework/Resources/bin/R CMD check --install=check:DEWSeq.install-out.txt --library=/Library/Frameworks/R.framework/Resources/library --no-vignettes --timings DEWSeq_1.16.2.tar.gz StartedAt: 2024-03-03 20:11:03 -0500 (Sun, 03 Mar 2024) EndedAt: 2024-03-03 20:15:59 -0500 (Sun, 03 Mar 2024) EllapsedTime: 296.2 seconds RetCode: 0 Status: OK CheckDir: DEWSeq.Rcheck Warnings: 0