Package: DEWSeq Version: 1.16.2 Command: /Library/Frameworks/R.framework/Resources/bin/R CMD INSTALL DEWSeq StartedAt: 2024-03-03 15:14:05 -0500 (Sun, 03 Mar 2024) EndedAt: 2024-03-03 15:14:41 -0500 (Sun, 03 Mar 2024) EllapsedTime: 36.7 seconds RetCode: 0 Status: OK