Package: DEWSeq Version: 1.16.2 Command: rm -rf DEWSeq.buildbin-libdir && mkdir DEWSeq.buildbin-libdir && /Users/biocbuild/BBS/utils/build-universal.sh DEWSeq_1.16.2.tar.gz /Library/Frameworks/R.framework/Resources/bin/R DEWSeq.buildbin-libdir StartedAt: 2024-04-16 11:29:54 -0400 (Tue, 16 Apr 2024) EndedAt: 2024-04-16 11:31:27 -0400 (Tue, 16 Apr 2024) EllapsedTime: 92.4 seconds RetCode: 0 Status: OK PackageFile: DEWSeq_1.16.2.tgz PackageFileSize: 2.939 MiB