Package: DEWSeq Version: 1.16.2 Command: /Library/Frameworks/R.framework/Resources/bin/R CMD check --install=check:DEWSeq.install-out.txt --library=/Library/Frameworks/R.framework/Resources/library --no-vignettes --timings DEWSeq_1.16.2.tar.gz StartedAt: 2024-04-16 01:55:51 -0400 (Tue, 16 Apr 2024) EndedAt: 2024-04-16 02:04:35 -0400 (Tue, 16 Apr 2024) EllapsedTime: 524.2 seconds RetCode: 0 Status: OK CheckDir: DEWSeq.Rcheck Warnings: 0