Package: DExMA
Version: 1.10.0
Command: /home/biocbuild/R/R-4.3.1/bin/R CMD build --keep-empty-dirs --no-resave-data DExMA
StartedAt: 2023-11-02 00:17:24 -0000 (Thu, 02 Nov 2023)
EndedAt: 2023-11-02 00:18:14 -0000 (Thu, 02 Nov 2023)
EllapsedTime: 50.1 seconds
RetCode: 0
Status: OK
PackageFile: DExMA_1.10.0.tar.gz
PackageFileSize: 302.9 <A href="http://en.wikipedia.org/wiki/KiB" target="_blank">KiB</A>