Package: DExMA Version: 1.10.7 Command: rm -rf DExMA.buildbin-libdir && mkdir DExMA.buildbin-libdir && /Users/biocbuild/BBS/utils/build-universal.sh DExMA_1.10.7.tar.gz /Library/Frameworks/R.framework/Resources/bin/R DExMA.buildbin-libdir StartedAt: 2024-03-04 00:38:07 -0500 (Mon, 04 Mar 2024) EndedAt: 2024-03-04 00:38:44 -0500 (Mon, 04 Mar 2024) EllapsedTime: 36.3 seconds RetCode: 0 Status: OK PackageFile: DExMA_1.10.7.tgz PackageFileSize: 402 KiB