Package: DExMA
Version: 1.10.7
Command: F:\biocbuild\bbs-3.18-bioc\R\bin\R.exe CMD check --no-multiarch --install=check:DExMA.install-out.txt --library=F:\biocbuild\bbs-3.18-bioc\R\library --no-vignettes --timings DExMA_1.10.7.tar.gz
StartedAt: 2024-04-16 00:09:25 -0400 (Tue, 16 Apr 2024)
EndedAt: 2024-04-16 00:12:33 -0400 (Tue, 16 Apr 2024)
EllapsedTime: 188.0 seconds
RetCode: 0
Status: OK
CheckDir: DExMA.Rcheck
Warnings: 0