Package: DMCFB
Version: 1.16.1
Command: chmod a+r DMCFB -R && F:\biocbuild\bbs-3.18-bioc\R\bin\R.exe CMD build --keep-empty-dirs --no-resave-data DMCFB
StartedAt: 2024-04-15 18:05:04 -0400 (Mon, 15 Apr 2024)
EndedAt: 2024-04-15 18:06:20 -0400 (Mon, 15 Apr 2024)
EllapsedTime: 76.2 seconds
RetCode: 0
Status: OK
PackageFile: DMCFB_1.16.1.tar.gz
PackageFileSize: 971 <A href="http://en.wikipedia.org/wiki/KiB" target="_blank">KiB</A>