Package: DMRcate
Version: 2.16.1
Command: rm -rf DMRcate.buildbin-libdir && mkdir DMRcate.buildbin-libdir && /Users/biocbuild/BBS/utils/build-universal.sh DMRcate_2.16.1.tar.gz /Library/Frameworks/R.framework/Resources/bin/R DMRcate.buildbin-libdir
StartedAt: 2024-03-04 00:38:41 -0500 (Mon, 04 Mar 2024)
EndedAt: 2024-03-04 00:40:11 -0500 (Mon, 04 Mar 2024)
EllapsedTime: 89.5 seconds
RetCode: 0
Status: OK
PackageFile: DMRcate_2.16.1.tgz
PackageFileSize: 799.8 <A href="http://en.wikipedia.org/wiki/KiB" target="_blank">KiB</A>