Package: DMRcate
Version: 2.16.1
Command: rm -rf DMRcate.buildbin-libdir && mkdir DMRcate.buildbin-libdir && /Users/biocbuild/BBS/utils/build-universal.sh DMRcate_2.16.1.tar.gz /Library/Frameworks/R.framework/Resources/bin/R DMRcate.buildbin-libdir
StartedAt: 2024-04-16 11:32:11 -0400 (Tue, 16 Apr 2024)
EndedAt: 2024-04-16 11:35:32 -0400 (Tue, 16 Apr 2024)
EllapsedTime: 201.0 seconds
RetCode: 0
Status: OK
PackageFile: DMRcate_2.16.1.tgz
PackageFileSize: 800.2 <A href="http://en.wikipedia.org/wiki/KiB" target="_blank">KiB</A>