Package: DMRcate
Version: 2.16.1
Command: F:\biocbuild\bbs-3.18-bioc\R\bin\R.exe CMD check --no-multiarch --install=check:DMRcate.install-out.txt --library=F:\biocbuild\bbs-3.18-bioc\R\library --no-vignettes --timings DMRcate_2.16.1.tar.gz
StartedAt: 2024-04-16 00:16:28 -0400 (Tue, 16 Apr 2024)
EndedAt: 2024-04-16 00:42:59 -0400 (Tue, 16 Apr 2024)
EllapsedTime: 1590.8 seconds
RetCode: 0
Status: OK
CheckDir: DMRcate.Rcheck
Warnings: 0